BEGIN:VCALENDAR
VERSION:2.0
PRODID:-//Weston Brass - ECPv4.6.9//NONSGML v1.0//EN
CALSCALE:GREGORIAN
METHOD:PUBLISH
X-WR-CALNAME:Weston Brass
X-ORIGINAL-URL:https://www.westonbrass.com
X-WR-CALDESC:Events for Weston Brass
BEGIN:VEVENT
DTSTART;TZID=Europe/London:20260515T193000
DTEND;TZID=Europe/London:20260515T220000
DTSTAMP:20260425T151339
CREATED:20260310T125050Z
LAST-MODIFIED:20260310T140557Z
UID:2176-1778873400-1778882400@www.westonbrass.com
SUMMARY:"A Night at the Movies"
DESCRIPTION:Weston Brass are proud to once again support the Marketeers Carnival Club concert. \n  \n  \n
URL:https://www.westonbrass.com/event/a-night-at-the-movies/
END:VEVENT
END:VCALENDAR